
BEGIN:VCALENDAR
VERSION:2.0
PRODID:-//Ace Poker League//Ace Poker League Osaka 2025//Charity //EN
BEGIN:VEVENT
UID:01000000-a9fe-0a58-4522-08dd8280b742
DTSTAMP;TZID=Asia/Tokyo:20250504T120000
DTSTART;TZID=Asia/Tokyo:20250504T120000
DTEND;TZID=Asia/Tokyo:20250504T235959
SUMMARY:Charity 
DESCRIPTION:Game: Texas Hold'em (NL)\nBuy-In: 20,000 +  JPY\nStack: 50,000\nLate Reg: @ 16:20
LOCATION:Dojima River Forum, Osaka, Japan
END:VEVENT
END:VCALENDAR
