
BEGIN:VCALENDAR
VERSION:2.0
PRODID:-//World Poker Games//World Poker Games Taiwan 2026//WPG Kick Off//EN
BEGIN:VEVENT
UID:01000000-4909-3915-dd0c-08de9c6bd05e
DTSTAMP;TZID=Asia/Taipei:20260523T130000
DTSTART;TZID=Asia/Taipei:20260523T130000
DTEND;TZID=Asia/Taipei:20260524T235959
SUMMARY:WPG Kick Off
DESCRIPTION:Featured\nGame: Texas Hold'em (NL)\nBuy-In: 8,800 + 1,200 TWD\nGTD: 2,000,000 TWD\nStack: 30,000
LOCATION:CTP Asia Poker Arena, Taipei City, Taiwan
END:VEVENT
END:VCALENDAR
