
BEGIN:VCALENDAR
VERSION:2.0
PRODID:-//Taiwan Millions Tournament//TMT Championship 2025//Warm-UP//EN
BEGIN:VEVENT
UID:01000000-a9fe-0a58-c058-08de01a6d9a0
DTSTAMP;TZID=Asia/Taipei:20251017T110000
DTSTART;TZID=Asia/Taipei:20251017T110000
DTEND;TZID=Asia/Taipei:20251017T235959
SUMMARY:Warm-UP
DESCRIPTION:Game: Texas Hold'em (NL)\nBuy-In: 2,975 + 525 TWD\nGTD: 1,000,000 TWD\nStack: 30,000\nLevels: 20 min\nLate Reg: 12 lvl @ 15:30
LOCATION:CTP Asia Poker Arena, Taipei City, Taiwan
END:VEVENT
END:VCALENDAR
