
BEGIN:VCALENDAR
VERSION:2.0
PRODID:-//The Singapore Poker Championships//SPC XX//SPC Mini-Roller//EN
BEGIN:VEVENT
UID:01000000-002c-8d50-e57c-08de68d83708
DTSTAMP;TZID=Asia/Singapore:20260306T130000
DTSTART;TZID=Asia/Singapore:20260306T130000
DTEND;TZID=Asia/Singapore:20260307T235959
SUMMARY:SPC Mini-Roller
DESCRIPTION:Featured\nGame: Texas Hold'em (NL)\nBuy-In: 883 + 117 SGD
LOCATION:MV Aegean Paradise, Singapore, Singapore
END:VEVENT
END:VCALENDAR
