
BEGIN:VCALENDAR
VERSION:2.0
PRODID:-//Royal Poker Tour//RPT Championship III//RPT OPENER EVENT//EN
BEGIN:VEVENT
UID:01000000-4909-3915-52e6-08de9ed4422f
DTSTAMP;TZID=Asia/Hanoi:20260603T130000
DTSTART;TZID=Asia/Hanoi:20260603T130000
DTEND;TZID=Asia/Hanoi:20260605T235959
SUMMARY:RPT OPENER EVENT
DESCRIPTION:Featured\nGame: Texas Hold'em (NL)\nBuy-In: 6,000,000 + 600,000 VND\nGTD: 5,000,000,000 VND\nStack: 30,000
LOCATION:Royal Poker Club, Hanoi, Viet Nam
END:VEVENT
END:VCALENDAR
