
BEGIN:VCALENDAR
VERSION:2.0
PRODID:-//OLA Poker Tour//OLA Poker Tour Taipei 2025//Ola Mystery Bounty//EN
BEGIN:VEVENT
UID:01000000-a9fe-0a58-27cf-08de207c82d8
DTSTAMP;TZID=Asia/Taipei:20251217T130000
DTSTART;TZID=Asia/Taipei:20251217T130000
DTEND;TZID=Asia/Taipei:20251219T235959
SUMMARY:Ola Mystery Bounty
DESCRIPTION:Featured\nGame: Texas Hold'em (NL)\nBuy-In: 10,000 + 1,000 TWD\nGTD: 2,000,000 TWD\nStack: 20,000
LOCATION:CTP Asia Poker Arena, Taipei City, Taiwan
END:VEVENT
END:VCALENDAR
