
BEGIN:VCALENDAR
VERSION:2.0
PRODID:-//Poker Dream//Poker Dream Malaysia 15//Malaysia Open - Final Day//EN
BEGIN:VEVENT
UID:01000000-a9fe-0a58-2998-08dd2f1539ae
DTSTAMP;TZID=Asia/Kuala_Lumpur:20250118T130000
DTSTART;TZID=Asia/Kuala_Lumpur:20250118T130000
DTEND;TZID=Asia/Kuala_Lumpur:20250118T235959
SUMMARY:Malaysia Open - Final Day
DESCRIPTION:Game: Texas Hold'em (NL)\nBuy-In:  +  MYR\nGTD: 1,000,000 MYR
LOCATION:Resorts World Genting, Malaysia, Pahang, Malaysia
END:VEVENT
END:VCALENDAR
