
BEGIN:VCALENDAR
VERSION:2.0
PRODID:-//Asian Poker Tour//APT Jeju South Korea 2025//Korea National Cup//EN
BEGIN:VEVENT
UID:01000000-a9fe-0a58-63cc-08ddb488eb46
DTSTAMP;TZID=Asia/Seoul:20250926T110000
DTSTART;TZID=Asia/Seoul:20250926T110000
DTEND;TZID=Asia/Seoul:20250927T235959
SUMMARY:Korea National Cup
DESCRIPTION:Featured\nGame: Texas Hold'em (NL)\nBuy-In: 850,000 +  KRW\nGTD: 200,000,000 KRW
LOCATION:LES A Casino, Jeju, South Korea
END:VEVENT
END:VCALENDAR
