
BEGIN:VCALENDAR
VERSION:2.0
PRODID:-//Asia Pacific Poker Tour//APPT Championship 2026//Players Party - TBC//EN
BEGIN:VEVENT
UID:01000000-3971-2ef2-55de-08de90b46dc3
DTSTAMP;TZID=Asia/Manila:20261016T180000
DTSTART;TZID=Asia/Manila:20261016T180000
DTEND;TZID=Asia/Manila:20261016T235959
SUMMARY:Players Party - TBC
DESCRIPTION:Game: Texas Hold'em (NL)\nBuy-In:  +  PHP\nStack: 1\nLevels: 10 min
LOCATION:Okada Manila, Manila, Philippines
END:VEVENT
END:VCALENDAR
