
BEGIN:VCALENDAR
VERSION:2.0
PRODID:-//Poker Dream//Poker Dream 22 Jeju//Player Party//EN
BEGIN:VEVENT
UID:01000000-3971-2ef2-79be-08de9a1d181f
DTSTAMP;TZID=Asia/Seoul:20260508T230000
DTSTART;TZID=Asia/Seoul:20260508T230000
DTEND;TZID=Asia/Seoul:20260508T235959
SUMMARY:Player Party
DESCRIPTION:Game: Texas Hold'em (NL)\nBuy-In:  +  null
LOCATION:LES A Casino, Jeju, South Korea
END:VEVENT
END:VCALENDAR
